BEGIN:VCALENDAR
VERSION:2.0
PRODID:-//Dare Response - ECPv6.15.12.2//NONSGML v1.0//EN
CALSCALE:GREGORIAN
METHOD:PUBLISH
X-WR-CALNAME:Dare Response
X-ORIGINAL-URL:https://www.dareresponse.com
X-WR-CALDESC:Events for Dare Response
REFRESH-INTERVAL;VALUE=DURATION:PT1H
X-Robots-Tag:noindex
X-PUBLISHED-TTL:PT1H
BEGIN:VTIMEZONE
TZID:America/New_York
BEGIN:DAYLIGHT
TZOFFSETFROM:-0500
TZOFFSETTO:-0400
TZNAME:EDT
DTSTART:20250309T070000
END:DAYLIGHT
BEGIN:STANDARD
TZOFFSETFROM:-0400
TZOFFSETTO:-0500
TZNAME:EST
DTSTART:20251102T060000
END:STANDARD
BEGIN:DAYLIGHT
TZOFFSETFROM:-0500
TZOFFSETTO:-0400
TZNAME:EDT
DTSTART:20260308T070000
END:DAYLIGHT
BEGIN:STANDARD
TZOFFSETFROM:-0400
TZOFFSETTO:-0500
TZNAME:EST
DTSTART:20261101T060000
END:STANDARD
BEGIN:DAYLIGHT
TZOFFSETFROM:-0500
TZOFFSETTO:-0400
TZNAME:EDT
DTSTART:20270314T070000
END:DAYLIGHT
BEGIN:STANDARD
TZOFFSETFROM:-0400
TZOFFSETTO:-0500
TZNAME:EST
DTSTART:20271107T060000
END:STANDARD
END:VTIMEZONE
BEGIN:VEVENT
DTSTART;TZID=America/New_York:20260423T100000
DTEND;TZID=America/New_York:20260423T110000
DTSTAMP:20260422T043906
CREATED:20260328T154130Z
LAST-MODIFIED:20260328T155526Z
UID:58514-1776938400-1776942000@www.dareresponse.com
SUMMARY:Webinar 2 with Michelle and Aida (Apr 2026)
DESCRIPTION:Join Michelle and Aida for a focused\, practical session on applying the DARE response to everyday anxiety. Learn simple strategies\, hear real-world examples\, and get guidance you can start using straight away. \nHere are the time conversions for this webinar: \nNew York\, USA Thu\, 23 Apr 2026 at 10:00 a.m. EDT\nLos Angeles\, USA Thu\, 23 Apr 2026 at 7:00 a.m. PDT\nLondon\, United Kingdom Thu\, 23 Apr 2026 at 3:00 p.m. BST\nSydney\, Australia Fri\, 24 Apr 2026 at 12:00 Midn AEST
URL:https://www.dareresponse.com/event/webinar-1-with-michelle-and-aida-apr-2026/
END:VEVENT
BEGIN:VEVENT
DTSTART;TZID=America/New_York:20260424T100000
DTEND;TZID=America/New_York:20260424T110000
DTSTAMP:20260422T043906
CREATED:20260328T153100Z
LAST-MODIFIED:20260328T153603Z
UID:58508-1777024800-1777028400@www.dareresponse.com
SUMMARY:DARE Advanced Challenge Call 4 with Michelle (Apr 2026)
DESCRIPTION:This monthly call will focus on the challenges that members have set for themselves for the month. Members are encouraged to post their progress on DARE Advanced’s Facebook group\, and each month we will come together to celebrate the steps forward\, troubleshoot where people may be getting stuck\, and set new challenges for the upcoming month. \nThis is also a good opportunity for a member to take on a challenge for themselves live on the group call while the group offers encouragement and support. \nHere’s the time conversion for the group call:  \nNew York\, USA Fri\, 24 Apr 2026 at 10:00 a.m. EDT\nLos Angeles\, USA Fri\, 24 Apr 2026 at 7:00 a.m. PDT\nLondon\, United Kingdom Fri\, 24 Apr 2026 at 3:00 p.m. BST\nBerlin\, Germany Fri\, 24 Apr 2026 at 4:00 p.m. CEST\nSydney\, Australia Sat\, 25 Apr 2026 at 12:00 Midn AEST
URL:https://www.dareresponse.com/event/dare-advanced-challenge-call-4-with-michelle-apr-2026/
END:VEVENT
BEGIN:VEVENT
DTSTART;TZID=America/New_York:20260428T090000
DTEND;TZID=America/New_York:20260428T100000
DTSTAMP:20260422T043906
CREATED:20260328T153450Z
LAST-MODIFIED:20260328T153450Z
UID:58510-1777366800-1777370400@www.dareresponse.com
SUMMARY:DARE Advanced Wellness Call 5 with Aida (Apr 2026)
DESCRIPTION:This call is a calming reset focused on grounding\, compassion\, and reconnecting with yourself. Through meditations and gentle practices\, it gives you a moment to soften\, breathe\, and build inner steadiness for the days ahead. \nHere’s the time conversion for the group call:  \nNew York\, USA Tue\, 28 Apr 2026 at 9:00 a.m. EDT\nLos Angeles\, USA Tue\, 28 Apr 2026 at 6:00 a.m. PDT\nLondon\, United Kingdom Tue\, 28 Apr 2026 at 2:00 p.m. BST\nBerlin\, Germany Tue\, 28 Apr 2026 at 3:00 p.m. CEST\nSydney\, Australia Tue\, 28 Apr 2026 at 11:00 p.m. AEST
URL:https://www.dareresponse.com/event/dare-advanced-wellness-call-5-with-aida-apr-2026/
END:VEVENT
END:VCALENDAR